BEGIN:VCALENDAR
VERSION:2.0
PRODID:-//InfopointRails//Events//EN
CALSCALE:GREGORIAN
METHOD:PUBLISH
X-WR-CALNAME:Snapshot: Guide through the funding jungle
BEGIN:VEVENT
DTSTAMP:20260425T194534Z
UID:event-66@medfaq.rwth-aachen.de
DTSTART:20251124T140000
DTEND:20251124T150000
CREATED:20260415T123331
DESCRIPTION:Overview of funding and advisory services
LAST-MODIFIED:20260415T123331
SUMMARY:Snapshot: Guide through the funding jungle
URL;VALUE=URI:https://medfaq.rwth-aachen.de/en/events/66
END:VEVENT
END:VCALENDAR
