BEGIN:VCALENDAR
VERSION:2.0
PRODID:-//InfopointRails//Events//EN
CALSCALE:GREGORIAN
METHOD:PUBLISH
X-WR-CALNAME:TANDEMplus
BEGIN:VEVENT
DTSTAMP:20260426T031515Z
UID:event-60@medfaq.rwth-aachen.de
DTSTART:20251120T230000
DTEND:20251121T224500
CREATED:20260415T123327
DESCRIPTION:The Mentoring Program TANDEMplus is aimed at highly qualified w
 omen scientists and researchers with first professional experience as post
 docs.
LAST-MODIFIED:20260415T123327
SUMMARY:TANDEMplus
URL;VALUE=URI:https://medfaq.rwth-aachen.de/en/events/60
END:VEVENT
END:VCALENDAR
