BEGIN:VCALENDAR
VERSION:2.0
PRODID:-//InfopointRails//Events//EN
CALSCALE:GREGORIAN
METHOD:PUBLISH
X-WR-CALNAME:Deadline TANDEMplus
BEGIN:VEVENT
DTSTAMP:20260426T031515Z
UID:event-58@medfaq.rwth-aachen.de
DTSTART:20251120T230000
DTEND:20251127T224500
CREATED:20260415T123326
DESCRIPTION:Mentoring Program for women postdocs of all disciplines at RWTH
  Aachen University 
LAST-MODIFIED:20260415T123326
SUMMARY:Deadline TANDEMplus
URL;VALUE=URI:https://medfaq.rwth-aachen.de/en/events/58
END:VEVENT
END:VCALENDAR
