BEGIN:VCALENDAR
VERSION:2.0
PRODID:-//InfopointRails//Events//EN
CALSCALE:GREGORIAN
METHOD:PUBLISH
X-WR-CALNAME:Deadline Starting Grants in the research area „Zukunft eHeal
 th“
BEGIN:VEVENT
DTSTAMP:20260426T031514Z
UID:event-57@medfaq.rwth-aachen.de
DTSTART:20251116T230000
DTEND:20251117T224500
CREATED:20260415T123325
DESCRIPTION:Funding for postdoctoral starting grants in the funding priorit
 y “Future eHealth”
LAST-MODIFIED:20260415T123325
SUMMARY:Deadline Starting Grants in the research area „Zukunft eHealth“
URL;VALUE=URI:https://medfaq.rwth-aachen.de/en/events/57
END:VEVENT
END:VCALENDAR
