BEGIN:VCALENDAR
VERSION:2.0
PRODID:-//InfopointRails//Events//EN
CALSCALE:GREGORIAN
METHOD:PUBLISH
X-WR-CALNAME:DFG-Funding for Clinician Scientists
BEGIN:VEVENT
DTSTAMP:20260426T031515Z
UID:event-56@medfaq.rwth-aachen.de
DTSTART:20251106T150000
DTEND:20251106T164500
CREATED:20260415T123324
DESCRIPTION:DFG webinar on funding opportunities for clinician scientists
LAST-MODIFIED:20260415T123324
SUMMARY:DFG-Funding for Clinician Scientists
URL;VALUE=URI:https://medfaq.rwth-aachen.de/en/events/56
END:VEVENT
END:VCALENDAR
