BEGIN:VCALENDAR
VERSION:2.0
PRODID:-//InfopointRails//Events//EN
CALSCALE:GREGORIAN
METHOD:PUBLISH
X-WR-CALNAME:Conference on concepts for an institute for gender studies
BEGIN:VEVENT
DTSTAMP:20260426T031515Z
UID:event-55@medfaq.rwth-aachen.de
DTSTART:20251103T100000
DTEND:20251103T170000
CREATED:20260415T123323
DESCRIPTION:University invites exchange on an Institute for Advanced Gender
  Studies
LAST-MODIFIED:20260415T123324
SUMMARY:Conference on concepts for an institute for gender studies
URL;VALUE=URI:https://medfaq.rwth-aachen.de/en/events/55
END:VEVENT
END:VCALENDAR
