BEGIN:VCALENDAR
VERSION:2.0
PRODID:-//InfopointRails//Events//EN
CALSCALE:GREGORIAN
METHOD:PUBLISH
X-WR-CALNAME:Snapshot: Beratung und Unterstützung durch Medizin.NRW
BEGIN:VEVENT
DTSTAMP:20260426T031514Z
UID:event-54@medfaq.rwth-aachen.de
DTSTART:20251027T140000
DTEND:20251027T150000
CREATED:20260415T123322
DESCRIPTION:Information event on the services offered by Medizin NRW
LAST-MODIFIED:20260415T123322
SUMMARY:Snapshot: Beratung und Unterstützung durch Medizin.NRW
URL;VALUE=URI:https://medfaq.rwth-aachen.de/en/events/54
END:VEVENT
END:VCALENDAR
