BEGIN:VCALENDAR
VERSION:2.0
PRODID:-//InfopointRails//Events//EN
CALSCALE:GREGORIAN
METHOD:PUBLISH
X-WR-CALNAME:Deadline Paul-Martini-Preis
BEGIN:VEVENT
DTSTAMP:20260426T031514Z
UID:event-42@medfaq.rwth-aachen.de
DTSTART:20251105T230000
DTEND:20251106T224500
CREATED:20260415T123313
DESCRIPTION:Deadline Paul-Martini-Preis in Clinical Pharmacology
LAST-MODIFIED:20260415T123313
SUMMARY:Deadline Paul-Martini-Preis
URL;VALUE=URI:https://medfaq.rwth-aachen.de/en/events/42
END:VEVENT
END:VCALENDAR
