BEGIN:VCALENDAR
VERSION:2.0
PRODID:-//InfopointRails//Events//EN
CALSCALE:GREGORIAN
METHOD:PUBLISH
X-WR-CALNAME:Brigitte Gilles Prize
BEGIN:VEVENT
DTSTAMP:20260426T031515Z
UID:event-36@medfaq.rwth-aachen.de
DTSTART:20251129T230000
DTEND:20251130T224500
CREATED:20260415T123309
DESCRIPTION:The Brigitte Gilles Prize is awarded annually by the RWTH in th
 ree categories for innovative projects and measures to promote women with 
 a connection to the RWTH. 
LAST-MODIFIED:20260415T123309
SUMMARY:Brigitte Gilles Prize
URL;VALUE=URI:https://medfaq.rwth-aachen.de/en/events/36
END:VEVENT
END:VCALENDAR
