BEGIN:VCALENDAR
VERSION:2.0
PRODID:-//InfopointRails//Events//EN
CALSCALE:GREGORIAN
METHOD:PUBLISH
X-WR-CALNAME:Deadline TANDEMmed
BEGIN:VEVENT
DTSTAMP:20260426T031514Z
UID:event-31@medfaq.rwth-aachen.de
DTSTART:20251030T230000
DTEND:20251030T230000
CREATED:20260415T123305
DESCRIPTION:Deadline to apply for the TANDEMmed mentoring programm
LAST-MODIFIED:20260415T123305
SUMMARY:Deadline TANDEMmed
URL;VALUE=URI:https://medfaq.rwth-aachen.de/en/events/31
END:VEVENT
END:VCALENDAR
