BEGIN:VCALENDAR
VERSION:2.0
PRODID:-//InfopointRails//Events//EN
CALSCALE:GREGORIAN
METHOD:PUBLISH
X-WR-CALNAME:Deadline CSP Short-term Programm
BEGIN:VEVENT
DTSTAMP:20260426T031515Z
UID:event-29@medfaq.rwth-aachen.de
DTSTART:20251130T230000
DTEND:20251201T225900
CREATED:20260415T123303
DESCRIPTION:The “Short Term” funding line of the Clinician Scientist Pr
 ogram serves to promote young scientists in the clinical-practical subject
 s of the Faculty of Medicine at RWTH Aachen University. It enables clinica
 lly active scientists to apply for protected research time at short notice
  in a straightforward application and selection process.
LAST-MODIFIED:20260415T123303
SUMMARY:Deadline CSP Short-term Programm
URL;VALUE=URI:https://medfaq.rwth-aachen.de/en/events/29
END:VEVENT
END:VCALENDAR
