BEGIN:VCALENDAR
VERSION:2.0
PRODID:-//InfopointRails//Events//EN
CALSCALE:GREGORIAN
METHOD:PUBLISH
X-WR-CALNAME:Deadline Dr. Werner Jackstädt-Stiftung
BEGIN:VEVENT
DTSTAMP:20260426T031516Z
UID:event-28@medfaq.rwth-aachen.de
DTSTART:20251030T230000
DTEND:20251031T225900
CREATED:20260415T123302
DESCRIPTION:Call for applications for 5 research grants for highly qualifie
 d young scientists with doctorates from Germany and abroad to carry out a 
 further qualifying  research stay outside their own institution.
LAST-MODIFIED:20260415T123302
SUMMARY:Deadline Dr. Werner Jackstädt-Stiftung
URL;VALUE=URI:https://medfaq.rwth-aachen.de/en/events/28
END:VEVENT
END:VCALENDAR
