BEGIN:VCALENDAR
VERSION:2.0
PRODID:-//InfopointRails//Events//EN
CALSCALE:GREGORIAN
METHOD:PUBLISH
X-WR-CALNAME:Deadline Daimler Benz Stiftung
BEGIN:VEVENT
DTSTAMP:20260426T031514Z
UID:event-27@medfaq.rwth-aachen.de
DTSTART:20251030T230000
DTEND:20251031T225900
CREATED:20260415T123301
DESCRIPTION:Application deadline Daimler Benz Foundation Funding line Forum
  for  innovative scientific projects with social relevance. Professors\, j
 unior professors\, and postdoctoral researchers in leadership positions ar
 e eligible to apply.
LAST-MODIFIED:20260415T123301
SUMMARY:Deadline Daimler Benz Stiftung
URL;VALUE=URI:https://medfaq.rwth-aachen.de/en/events/27
END:VEVENT
END:VCALENDAR
