BEGIN:VCALENDAR
VERSION:2.0
PRODID:-//InfopointRails//Events//EN
CALSCALE:GREGORIAN
METHOD:PUBLISH
X-WR-CALNAME:Deadline Daimler Benz Foundation
BEGIN:VEVENT
DTSTAMP:20260426T005025Z
UID:event-26@medfaq.rwth-aachen.de
DTSTART:20250930T220000
DTEND:20251001T215900
CREATED:20260415T123300
DESCRIPTION:Deadline Daimler Benz Foundation
LAST-MODIFIED:20260415T123301
SUMMARY:Deadline Daimler Benz Foundation
URL;VALUE=URI:https://medfaq.rwth-aachen.de/en/events/26
END:VEVENT
END:VCALENDAR
