BEGIN:VCALENDAR
VERSION:2.0
PRODID:-//InfopointRails//Events//EN
CALSCALE:GREGORIAN
METHOD:PUBLISH
X-WR-CALNAME:Paper of the Month
BEGIN:VEVENT
DTSTAMP:20260426T031514Z
UID:event-12@medfaq.rwth-aachen.de
DTSTART:20251109T230000
DTEND:20251109T230000
CREATED:20260415T123252
DESCRIPTION:Submission Deadline Paper of the Month
LAST-MODIFIED:20260415T123252
SUMMARY:Paper of the Month
URL;VALUE=URI:https://medfaq.rwth-aachen.de/en/events/12
END:VEVENT
END:VCALENDAR
