BEGIN:VCALENDAR
VERSION:2.0
PRODID:-//InfopointRails//Events//EN
CALSCALE:GREGORIAN
METHOD:PUBLISH
X-WR-CALNAME:Paper of the Month
BEGIN:VEVENT
DTSTAMP:20260426T031519Z
UID:event-9@medfaq.rwth-aachen.de
DTSTART:20251209T230000
DTEND:20251209T230000
CREATED:20260415T123249
DESCRIPTION:Submission Deadline Paper of the Month
LAST-MODIFIED:20260415T123249
SUMMARY:Paper of the Month
URL;VALUE=URI:https://medfaq.rwth-aachen.de/de/events/9
END:VEVENT
END:VCALENDAR
