BEGIN:VCALENDAR
VERSION:2.0
PRODID:-//InfopointRails//Events//EN
CALSCALE:GREGORIAN
METHOD:PUBLISH
X-WR-CALNAME:DFG: Pauschale für Chancengleichheitsmaßnahmen
BEGIN:VEVENT
DTSTAMP:20260426T031520Z
UID:event-76@medfaq.rwth-aachen.de
DTSTART:20251204T110000
DTEND:20251204T120000
CREATED:20260415T123339
DESCRIPTION:Pauschale für Chancengleichheitsmaßnahmen
LAST-MODIFIED:20260415T123339
SUMMARY:DFG: Pauschale für Chancengleichheitsmaßnahmen
URL;VALUE=URI:https://medfaq.rwth-aachen.de/de/events/76
END:VEVENT
END:VCALENDAR
