BEGIN:VCALENDAR
VERSION:2.0
PRODID:-//InfopointRails//Events//EN
CALSCALE:GREGORIAN
METHOD:PUBLISH
X-WR-CALNAME:DFG: Familienzeit\, Budget für Sprecher*innen und Familienzus
 chlag
BEGIN:VEVENT
DTSTAMP:20260426T031519Z
UID:event-74@medfaq.rwth-aachen.de
DTSTART:20251211T110000
DTEND:20251211T120000
CREATED:20260415T123338
DESCRIPTION:Familienzeit\, Budget für Sprecher*innen und Familienzuschlag
LAST-MODIFIED:20260415T123338
SUMMARY:DFG: Familienzeit\, Budget für Sprecher*innen und Familienzuschlag
URL;VALUE=URI:https://medfaq.rwth-aachen.de/de/events/74
END:VEVENT
END:VCALENDAR
