BEGIN:VCALENDAR
VERSION:2.0
PRODID:-//InfopointRails//Events//EN
CALSCALE:GREGORIAN
METHOD:PUBLISH
X-WR-CALNAME:DFG Prospects: DFG Funding Opportunities for Postdocs (in Engl
 ish)
BEGIN:VEVENT
DTSTAMP:20260426T031520Z
UID:event-7@medfaq.rwth-aachen.de
DTSTART:20251211T150000
DTEND:20251211T163000
CREATED:20260415T123248
DESCRIPTION:In unserer Vortragsreihe stellen wir Ihnen über das Jahr verte
 ilt das DFG-Förderportfolio für Wissenschaftler*innen in frühen Karrier
 ephasen vor
LAST-MODIFIED:20260415T123248
SUMMARY:DFG Prospects: DFG Funding Opportunities for Postdocs (in English)
URL;VALUE=URI:https://medfaq.rwth-aachen.de/de/events/7
END:VEVENT
END:VCALENDAR
