BEGIN:VCALENDAR
VERSION:2.0
PRODID:-//InfopointRails//Events//EN
CALSCALE:GREGORIAN
METHOD:PUBLISH
X-WR-CALNAME:Snapshot: Wegweiser im Förderdschungel
BEGIN:VEVENT
DTSTAMP:20260425T194535Z
UID:event-66@medfaq.rwth-aachen.de
DTSTART:20251124T140000
DTEND:20251124T150000
CREATED:20260415T123331
DESCRIPTION:Überblick über Förder- & Beratungsangebote
LAST-MODIFIED:20260415T123331
SUMMARY:Snapshot: Wegweiser im Förderdschungel
URL;VALUE=URI:https://medfaq.rwth-aachen.de/de/events/66
END:VEVENT
END:VCALENDAR
