BEGIN:VCALENDAR
VERSION:2.0
PRODID:-//InfopointRails//Events//EN
CALSCALE:GREGORIAN
METHOD:PUBLISH
X-WR-CALNAME:Online Event: Unlocking Incentives for Future Research – Emp
 owering Early Career Researchers
BEGIN:VEVENT
DTSTAMP:20260426T031518Z
UID:event-65@medfaq.rwth-aachen.de
DTSTART:20251121T083000
DTEND:20251121T110000
CREATED:20260415T123331
DESCRIPTION:The online workshop is aimed at early career researchers (ECRs)
  and explores incentive structures to create a more transparent and robust
  research environment. 
LAST-MODIFIED:20260415T123331
SUMMARY:Online Event: Unlocking Incentives for Future Research – Empoweri
 ng Early Career Researchers
URL;VALUE=URI:https://medfaq.rwth-aachen.de/de/events/65
END:VEVENT
END:VCALENDAR
