BEGIN:VCALENDAR
VERSION:2.0
PRODID:-//InfopointRails//Events//EN
CALSCALE:GREGORIAN
METHOD:PUBLISH
X-WR-CALNAME:Ladenburg Horizons
BEGIN:VEVENT
DTSTAMP:20260426T031519Z
UID:event-63@medfaq.rwth-aachen.de
DTSTART:20251214T230000
DTEND:20251215T224500
CREATED:20260415T123329
DESCRIPTION:With its “Ladenburg Horizons” funding line\, the Daimler an
 d Benz Foundation is promoting cooperation between German and African rese
 arch institutions with a budget of up to €300\,000
LAST-MODIFIED:20260415T123329
SUMMARY:Ladenburg Horizons
URL;VALUE=URI:https://medfaq.rwth-aachen.de/de/events/63
END:VEVENT
END:VCALENDAR
