BEGIN:VCALENDAR
VERSION:2.0
PRODID:-//InfopointRails//Events//EN
CALSCALE:GREGORIAN
METHOD:PUBLISH
X-WR-CALNAME:TANDEMdok
BEGIN:VEVENT
DTSTAMP:20260425T194535Z
UID:event-62@medfaq.rwth-aachen.de
DTSTART:20251211T230000
DTEND:20251212T224500
CREATED:20260415T123328
DESCRIPTION:The interdisciplinary program appeals to highly motivated women
  Ph.D. students
LAST-MODIFIED:20260415T123329
SUMMARY:TANDEMdok
URL;VALUE=URI:https://medfaq.rwth-aachen.de/de/events/62
END:VEVENT
END:VCALENDAR
