BEGIN:VCALENDAR
VERSION:2.0
PRODID:-//InfopointRails//Events//EN
CALSCALE:GREGORIAN
METHOD:PUBLISH
X-WR-CALNAME:TANDEMbridge
BEGIN:VEVENT
DTSTAMP:20260425T194535Z
UID:event-61@medfaq.rwth-aachen.de
DTSTART:20251211T230000
DTEND:20251212T224500
CREATED:20260415T123328
DESCRIPTION:The TANDEMbridge mentoring program is aimed at highly motivated
  female master's students and doctoral students in their first year of doc
 toral studies
LAST-MODIFIED:20260415T123328
SUMMARY:TANDEMbridge
URL;VALUE=URI:https://medfaq.rwth-aachen.de/de/events/61
END:VEVENT
END:VCALENDAR
