BEGIN:VCALENDAR
VERSION:2.0
PRODID:-//InfopointRails//Events//EN
CALSCALE:GREGORIAN
METHOD:PUBLISH
X-WR-CALNAME:Bewerbungsfrist TANDEMplus
BEGIN:VEVENT
DTSTAMP:20260426T031517Z
UID:event-58@medfaq.rwth-aachen.de
DTSTART:20251120T230000
DTEND:20251127T224500
CREATED:20260415T123326
DESCRIPTION:Mentoring Programm für weibliche Post docs aller Disziplinen a
 n der RWTH Aachen
LAST-MODIFIED:20260415T123326
SUMMARY:Bewerbungsfrist TANDEMplus
URL;VALUE=URI:https://medfaq.rwth-aachen.de/de/events/58
END:VEVENT
END:VCALENDAR
