BEGIN:VCALENDAR
VERSION:2.0
PRODID:-//InfopointRails//Events//EN
CALSCALE:GREGORIAN
METHOD:PUBLISH
X-WR-CALNAME:Bewerbungsfrist Starting Grants im Förderschwerpunkt „Zukun
 ft eHealth“
BEGIN:VEVENT
DTSTAMP:20260426T031517Z
UID:event-57@medfaq.rwth-aachen.de
DTSTART:20251116T230000
DTEND:20251117T224500
CREATED:20260415T123325
DESCRIPTION:Förderung von Postdoc Starting Grants im Förderschwerpunkt 
 „Zukunft eHealth
LAST-MODIFIED:20260415T123325
SUMMARY:Bewerbungsfrist Starting Grants im Förderschwerpunkt „Zukunft eH
 ealth“
URL;VALUE=URI:https://medfaq.rwth-aachen.de/de/events/57
END:VEVENT
END:VCALENDAR
