BEGIN:VCALENDAR
VERSION:2.0
PRODID:-//InfopointRails//Events//EN
CALSCALE:GREGORIAN
METHOD:PUBLISH
X-WR-CALNAME:DFG-Förderung für Clinician Scientists
BEGIN:VEVENT
DTSTAMP:20260426T031519Z
UID:event-41@medfaq.rwth-aachen.de
DTSTART:20251106T150000
DTEND:20251106T164500
CREATED:20260415T123312
DESCRIPTION:Die Veranstaltung richtet sich in erster Linie an aktuelle und 
 zukünftige Clinician Scientists. 
LAST-MODIFIED:20260415T123313
SUMMARY:DFG-Förderung für Clinician Scientists
URL;VALUE=URI:https://medfaq.rwth-aachen.de/de/events/41
END:VEVENT
END:VCALENDAR
