BEGIN:VCALENDAR
VERSION:2.0
PRODID:-//InfopointRails//Events//EN
CALSCALE:GREGORIAN
METHOD:PUBLISH
X-WR-CALNAME:Rita Süssmuth Research Award
BEGIN:VEVENT
DTSTAMP:20260426T031519Z
UID:event-35@medfaq.rwth-aachen.de
DTSTART:20251029T230000
DTEND:20251030T224500
CREATED:20260415T123308
DESCRIPTION:Rita Süssmüth Research Award for gender-related research
LAST-MODIFIED:20260415T123308
SUMMARY:Rita Süssmuth Research Award
URL;VALUE=URI:https://medfaq.rwth-aachen.de/de/events/35
END:VEVENT
END:VCALENDAR
