BEGIN:VCALENDAR
VERSION:2.0
PRODID:-//InfopointRails//Events//EN
CALSCALE:GREGORIAN
METHOD:PUBLISH
X-WR-CALNAME:Bewerbungsfrist TANDEMmed
BEGIN:VEVENT
DTSTAMP:20260425T194535Z
UID:event-31@medfaq.rwth-aachen.de
DTSTART:20251030T230000
DTEND:20251030T230000
CREATED:20260415T123305
DESCRIPTION:Bewerbungsfrist für das TANDEMmed Mentoring Programm
LAST-MODIFIED:20260415T123305
SUMMARY:Bewerbungsfrist TANDEMmed
URL;VALUE=URI:https://medfaq.rwth-aachen.de/de/events/31
END:VEVENT
END:VCALENDAR
