BEGIN:VCALENDAR
VERSION:2.0
PRODID:-//InfopointRails//Events//EN
CALSCALE:GREGORIAN
METHOD:PUBLISH
X-WR-CALNAME:Einreichungsfrist CSP Kurzzeitprogramm
BEGIN:VEVENT
DTSTAMP:20260426T031518Z
UID:event-29@medfaq.rwth-aachen.de
DTSTART:20251130T230000
DTEND:20251201T225900
CREATED:20260415T123303
DESCRIPTION:Die Förderlinie „Kurzzeit“ des Clinician Scientist Program
 ms dient der Förderung des wissenschaftlichen Nachwuchses in den klinisch
 -praktischen Fächern der Medizinischen Fakultät der RWTH Aachen Universi
 ty. Sie ermöglicht klinisch-tätigen Wissenschaftlerinnen und Wissenschaf
 tlern eine kurzfristige Beantragung geschützter Forschungszeit in einem u
 nkomplizierten Bewerbungs- und Auswahlverfahren.
LAST-MODIFIED:20260415T123303
SUMMARY:Einreichungsfrist CSP Kurzzeitprogramm
URL;VALUE=URI:https://medfaq.rwth-aachen.de/de/events/29
END:VEVENT
END:VCALENDAR
