BEGIN:VCALENDAR
VERSION:2.0
PRODID:-//InfopointRails//Events//EN
CALSCALE:GREGORIAN
METHOD:PUBLISH
X-WR-CALNAME:Bewerbungsfrist Dr. Werner Jackstädt-Stiftung
BEGIN:VEVENT
DTSTAMP:20260426T031519Z
UID:event-28@medfaq.rwth-aachen.de
DTSTART:20251030T230000
DTEND:20251031T225900
CREATED:20260415T123302
DESCRIPTION:Ausschreibung 5 Forschungsstipendien an besonders qualifizierte
  promovierte Nachwuchswissenschaftler/innen aus dem In- und Ausland zur Du
 rchführung eines weiterqualifizierenden  Forschungsaufenthalts außerhalb
  der eigenen Institution.
LAST-MODIFIED:20260415T123302
SUMMARY:Bewerbungsfrist Dr. Werner Jackstädt-Stiftung
URL;VALUE=URI:https://medfaq.rwth-aachen.de/de/events/28
END:VEVENT
END:VCALENDAR
