BEGIN:VCALENDAR
VERSION:2.0
PRODID:-//InfopointRails//Events//EN
CALSCALE:GREGORIAN
METHOD:PUBLISH
X-WR-CALNAME:Bewerbungsfrist Daimler Benz Stiftung
BEGIN:VEVENT
DTSTAMP:20260426T031516Z
UID:event-27@medfaq.rwth-aachen.de
DTSTART:20251030T230000
DTEND:20251031T225900
CREATED:20260415T123301
DESCRIPTION:Bewerbungsfrist Daimler Benz Stiftung Förderlinie Forum für  
 innovative wissenschaftliche Projekte mit gesellschaftlicher Relevanz. Ant
 ragsberechtigt sind Professor*innen\, Juniorprofessor*innen und Postdoktor
 and*innen mit Leitungsfunktion.
LAST-MODIFIED:20260415T123301
SUMMARY:Bewerbungsfrist Daimler Benz Stiftung
URL;VALUE=URI:https://medfaq.rwth-aachen.de/de/events/27
END:VEVENT
END:VCALENDAR
