BEGIN:VCALENDAR
VERSION:2.0
PRODID:-//InfopointRails//Events//EN
CALSCALE:GREGORIAN
METHOD:PUBLISH
X-WR-CALNAME:Tag der Forschungsdaten
BEGIN:VEVENT
DTSTAMP:20260426T031517Z
UID:event-21@medfaq.rwth-aachen.de
DTSTART:20251117T230000
DTEND:20251118T224500
CREATED:20260415T123257
DESCRIPTION:Am 18. November 2025 findet der fünfte „Tag der Forschungsda
 ten“ (TdF) in Nordrhein-Westfalen statt. 
LAST-MODIFIED:20260415T123258
SUMMARY:Tag der Forschungsdaten
URL;VALUE=URI:https://medfaq.rwth-aachen.de/de/events/21
END:VEVENT
END:VCALENDAR
