BEGIN:VCALENDAR
VERSION:2.0
PRODID:-//InfopointRails//Events//EN
CALSCALE:GREGORIAN
METHOD:PUBLISH
X-WR-CALNAME:Automating (Meta)Data Transfer to Coscine
BEGIN:VEVENT
DTSTAMP:20260426T031517Z
UID:event-20@medfaq.rwth-aachen.de
DTSTART:20251202T080000
DTEND:20251202T120000
CREATED:20260415T123257
DESCRIPTION:Online Workshop Automating (Meta)Data Transfer to Coscine
LAST-MODIFIED:20260415T123257
SUMMARY:Automating (Meta)Data Transfer to Coscine
URL;VALUE=URI:https://medfaq.rwth-aachen.de/de/events/20
END:VEVENT
END:VCALENDAR
