BEGIN:VCALENDAR
VERSION:2.0
PRODID:-//InfopointRails//Events//EN
CALSCALE:GREGORIAN
METHOD:PUBLISH
X-WR-CALNAME:RWTH SCIENCE SLAM
BEGIN:VEVENT
DTSTAMP:20260425T194536Z
UID:event-17@medfaq.rwth-aachen.de
DTSTART:20251114T180000
DTEND:20251114T213000
CREATED:20260415T123254
DESCRIPTION:RWTH SCIENCE SLAM im Rahmen der 21. RWTH Wissenschaftsnacht\n\n
LAST-MODIFIED:20260415T123254
SUMMARY:RWTH SCIENCE SLAM
URL;VALUE=URI:https://medfaq.rwth-aachen.de/de/events/17
END:VEVENT
END:VCALENDAR
