BEGIN:VCALENDAR
VERSION:2.0
PRODID:-//InfopointRails//Events//EN
CALSCALE:GREGORIAN
METHOD:PUBLISH
X-WR-CALNAME:Netzwerken
BEGIN:VEVENT
DTSTAMP:20260426T044353Z
UID:event-46@medfaq.rwth-aachen.de
DTSTART:20251030T170000
DTEND:20251030T193000
CREATED:20260415T123316
DESCRIPTION:As a postdoc\, you're navigating a phase of professional develo
 pment that involves both opportunity and decision-making. This evening off
 ers space to explore how others have shaped their careers after the PhD ac
 ross academia\, industry\, non-university research and hybrid paths.
LAST-MODIFIED:20260415T123316
SUMMARY:Engage – Networking Events for Postdocs. Exploring Career Pathway
 s After the PhD
URL;VALUE=URI:https://medfaq.rwth-aachen.de/de/events/46
END:VEVENT
BEGIN:VEVENT
DTSTAMP:20260426T044353Z
UID:event-48@medfaq.rwth-aachen.de
DTSTART:20251204T140000
DTEND:20251204T190000
CREATED:20260415T123317
DESCRIPTION:Tag der Chirurginnen am Universitätsklinikum Bonn
LAST-MODIFIED:20260415T123318
SUMMARY:3. Tag der Chirurginnen
URL;VALUE=URI:https://medfaq.rwth-aachen.de/de/events/48
END:VEVENT
BEGIN:VEVENT
DTSTAMP:20260426T044353Z
UID:event-67@medfaq.rwth-aachen.de
DTSTART:20251210T160000
DTEND:20251210T180000
CREATED:20260415T123332
DESCRIPTION:Die Uniklinik Researcher Alliance lädt zur Thesis Competition 
 ein.
LAST-MODIFIED:20260415T123332
SUMMARY:3 Minute Thesis competition URA
URL;VALUE=URI:https://medfaq.rwth-aachen.de/de/events/67
END:VEVENT
END:VCALENDAR
