BEGIN:VCALENDAR
VERSION:2.0
PRODID:-//InfopointRails//Events//EN
CALSCALE:GREGORIAN
METHOD:PUBLISH
X-WR-CALNAME:Schulung/Workshop
BEGIN:VEVENT
DTSTAMP:20260426T044353Z
UID:event-3@medfaq.rwth-aachen.de
DTSTART:20250629T220000
DTEND:20250701T220000
CREATED:20260415T123245
DESCRIPTION:DataLad is a free and open source distributed data management s
 ystem that keeps track of your data\, creates structure\, ensures reproduc
 ibility\, supports collaboration\, and integrates with widely used data in
 frastructure.
LAST-MODIFIED:20260415T123246
SUMMARY:DataLad Workshop
URL;VALUE=URI:https://medfaq.rwth-aachen.de/de/events/3
END:VEVENT
BEGIN:VEVENT
DTSTAMP:20260426T044353Z
UID:event-18@medfaq.rwth-aachen.de
DTSTART:20250825T080000
DTEND:20250825T100000
CREATED:20260415T123255
DESCRIPTION:Online Workshop RDM platform Coscine – more than free quota!
LAST-MODIFIED:20260415T123255
SUMMARY:RDM platform Coscine – more than free quota!
URL;VALUE=URI:https://medfaq.rwth-aachen.de/de/events/18
END:VEVENT
BEGIN:VEVENT
DTSTAMP:20260426T044353Z
UID:event-19@medfaq.rwth-aachen.de
DTSTART:20250916T080000
DTEND:20250915T220000
CREATED:20260415T123256
DESCRIPTION:Online Workshop: Metadata Basics and Creating Metadata Profiles
  for Coscine
LAST-MODIFIED:20260415T123256
SUMMARY:Metadata Basics and Creating Metadata Profiles for Coscine
URL;VALUE=URI:https://medfaq.rwth-aachen.de/de/events/19
END:VEVENT
BEGIN:VEVENT
DTSTAMP:20260426T044353Z
UID:event-20@medfaq.rwth-aachen.de
DTSTART:20251202T080000
DTEND:20251202T120000
CREATED:20260415T123257
DESCRIPTION:Online Workshop Automating (Meta)Data Transfer to Coscine
LAST-MODIFIED:20260415T123257
SUMMARY:Automating (Meta)Data Transfer to Coscine
URL;VALUE=URI:https://medfaq.rwth-aachen.de/de/events/20
END:VEVENT
BEGIN:VEVENT
DTSTAMP:20260426T044353Z
UID:event-47@medfaq.rwth-aachen.de
DTSTART:20251007T120000
DTEND:20251007T140000
CREATED:20260415T123317
DESCRIPTION:Der Workshop richtet sich an Forschende und behandelt die Bedeu
 tung und das Potenzial von Datenmanagementplänen sowie eine Einführung i
 n den Research Data Management Organiser (RDMO)
LAST-MODIFIED:20260415T123317
SUMMARY:Management und Bearbeitung von Datenmanagementplänen mit RDMO
URL;VALUE=URI:https://medfaq.rwth-aachen.de/de/events/47
END:VEVENT
BEGIN:VEVENT
DTSTAMP:20260426T044353Z
UID:event-65@medfaq.rwth-aachen.de
DTSTART:20251121T083000
DTEND:20251121T110000
CREATED:20260415T123331
DESCRIPTION:The online workshop is aimed at early career researchers (ECRs)
  and explores incentive structures to create a more transparent and robust
  research environment. 
LAST-MODIFIED:20260415T123331
SUMMARY:Online Event: Unlocking Incentives for Future Research – Empoweri
 ng Early Career Researchers
URL;VALUE=URI:https://medfaq.rwth-aachen.de/de/events/65
END:VEVENT
END:VCALENDAR
